BEGIN:VCALENDAR
VERSION:2.0
PRODID:-//PenWAG - ECPv6.15.20//NONSGML v1.0//EN
CALSCALE:GREGORIAN
METHOD:PUBLISH
X-WR-CALNAME:PenWAG
X-ORIGINAL-URL:https://penwag.org
X-WR-CALDESC:Events for PenWAG
REFRESH-INTERVAL;VALUE=DURATION:PT1H
X-Robots-Tag:noindex
X-PUBLISHED-TTL:PT1H
BEGIN:VTIMEZONE
TZID:America/Los_Angeles
BEGIN:DAYLIGHT
TZOFFSETFROM:-0800
TZOFFSETTO:-0700
TZNAME:PDT
DTSTART:20220313T100000
END:DAYLIGHT
BEGIN:STANDARD
TZOFFSETFROM:-0700
TZOFFSETTO:-0800
TZNAME:PST
DTSTART:20221106T090000
END:STANDARD
BEGIN:DAYLIGHT
TZOFFSETFROM:-0800
TZOFFSETTO:-0700
TZNAME:PDT
DTSTART:20230312T100000
END:DAYLIGHT
BEGIN:STANDARD
TZOFFSETFROM:-0700
TZOFFSETTO:-0800
TZNAME:PST
DTSTART:20231105T090000
END:STANDARD
BEGIN:DAYLIGHT
TZOFFSETFROM:-0800
TZOFFSETTO:-0700
TZNAME:PDT
DTSTART:20240310T100000
END:DAYLIGHT
BEGIN:STANDARD
TZOFFSETFROM:-0700
TZOFFSETTO:-0800
TZNAME:PST
DTSTART:20241103T090000
END:STANDARD
BEGIN:DAYLIGHT
TZOFFSETFROM:-0800
TZOFFSETTO:-0700
TZNAME:PDT
DTSTART:20250309T100000
END:DAYLIGHT
BEGIN:STANDARD
TZOFFSETFROM:-0700
TZOFFSETTO:-0800
TZNAME:PST
DTSTART:20251102T090000
END:STANDARD
BEGIN:DAYLIGHT
TZOFFSETFROM:-0800
TZOFFSETTO:-0700
TZNAME:PDT
DTSTART:20260308T100000
END:DAYLIGHT
BEGIN:STANDARD
TZOFFSETFROM:-0700
TZOFFSETTO:-0800
TZNAME:PST
DTSTART:20261101T090000
END:STANDARD
BEGIN:DAYLIGHT
TZOFFSETFROM:-0800
TZOFFSETTO:-0700
TZNAME:PDT
DTSTART:20270314T100000
END:DAYLIGHT
BEGIN:STANDARD
TZOFFSETFROM:-0700
TZOFFSETTO:-0800
TZNAME:PST
DTSTART:20271107T090000
END:STANDARD
END:VTIMEZONE
BEGIN:VEVENT
DTSTART;TZID=America/Los_Angeles:20260316T190000
DTEND;TZID=America/Los_Angeles:20260316T203000
DTSTAMP:20260420T072055
CREATED:20251108T014822Z
LAST-MODIFIED:20251108T014822Z
UID:37605-1773687600-1773693000@penwag.org
SUMMARY:March 2026 Monday Muse
DESCRIPTION:Our monthly just-for-fun Zoom schmoozefest! \nLog-in details are sent via email to all Active PenWAG Members
URL:https://penwag.org/event/march-2026-monday-muse/
LOCATION:PenWAG Online Clubhouse
CATEGORIES:Meetings and Lectures,Online Event,PenWAG Monday Muse
ATTACH;FMTTYPE=image/jpeg:https://penwag.org/wp-content/uploads/2021/01/1304741.jpg
END:VEVENT
BEGIN:VEVENT
DTSTART;TZID=America/Los_Angeles:20260216T190000
DTEND;TZID=America/Los_Angeles:20260216T203000
DTSTAMP:20260420T072055
CREATED:20251108T014707Z
LAST-MODIFIED:20251108T014707Z
UID:37603-1771268400-1771273800@penwag.org
SUMMARY:February 2026 Monday Muse
DESCRIPTION:Our monthly just-for-fun Zoom schmoozefest! \nLog-in details are sent via email to all Active PenWAG Members
URL:https://penwag.org/event/february-2026-monday-muse/
LOCATION:PenWAG Online Clubhouse
CATEGORIES:Meetings and Lectures,Online Event,PenWAG Monday Muse
ATTACH;FMTTYPE=image/jpeg:https://penwag.org/wp-content/uploads/2021/01/1304741.jpg
END:VEVENT
BEGIN:VEVENT
DTSTART;TZID=America/Los_Angeles:20260119T190000
DTEND;TZID=America/Los_Angeles:20260119T203000
DTSTAMP:20260420T072055
CREATED:20250125T210243Z
LAST-MODIFIED:20250205T034603Z
UID:36752-1768849200-1768854600@penwag.org
SUMMARY:January 2026 Monday Muse
DESCRIPTION:Our monthly just-for-fun Zoom schmoozefest! \nLog-in details are sent via email to all Active PenWAG Members
URL:https://penwag.org/event/january-2026-monday-muse/
LOCATION:PenWAG Online Clubhouse
CATEGORIES:Meetings and Lectures,Online Event,PenWAG Monday Muse
ATTACH;FMTTYPE=image/jpeg:https://penwag.org/wp-content/uploads/2021/01/1304741.jpg
END:VEVENT
BEGIN:VEVENT
DTSTART;TZID=America/Los_Angeles:20251215T190000
DTEND;TZID=America/Los_Angeles:20251215T203000
DTSTAMP:20260420T072055
CREATED:20250125T210110Z
LAST-MODIFIED:20250205T034636Z
UID:36740-1765825200-1765830600@penwag.org
SUMMARY:December 2025 Monday Muse
DESCRIPTION:Our monthly just-for-fun Zoom schmoozefest! \nLog-in details are sent via email to all Active PenWAG Members
URL:https://penwag.org/event/december-2025-monday-muse/
LOCATION:PenWAG Online Clubhouse
CATEGORIES:Meetings and Lectures,Online Event,PenWAG Monday Muse
ATTACH;FMTTYPE=image/jpeg:https://penwag.org/wp-content/uploads/2021/01/1304741.jpg
END:VEVENT
BEGIN:VEVENT
DTSTART;TZID=America/Los_Angeles:20251117T190000
DTEND;TZID=America/Los_Angeles:20251117T203000
DTSTAMP:20260420T072055
CREATED:20250125T210003Z
LAST-MODIFIED:20250205T034810Z
UID:36739-1763406000-1763411400@penwag.org
SUMMARY:November 2025 Monday Muse
DESCRIPTION:Our monthly just-for-fun Zoom schmoozefest! \nLog-in details are sent via email to all Active PenWAG Members
URL:https://penwag.org/event/november-2025-monday-muse/
LOCATION:PenWAG Online Clubhouse
CATEGORIES:Meetings and Lectures,Online Event,PenWAG Monday Muse
ATTACH;FMTTYPE=image/jpeg:https://penwag.org/wp-content/uploads/2021/01/1304741.jpg
END:VEVENT
BEGIN:VEVENT
DTSTART;TZID=America/Los_Angeles:20251020T190000
DTEND;TZID=America/Los_Angeles:20251020T203000
DTSTAMP:20260420T072055
CREATED:20250125T205906Z
LAST-MODIFIED:20250205T035140Z
UID:36738-1760986800-1760992200@penwag.org
SUMMARY:October 2025 Monday Muse
DESCRIPTION:Our monthly just-for-fun Zoom schmoozefest! \nLog-in details are sent via email to all Active PenWAG Members
URL:https://penwag.org/event/october-2025-monday-muse/
LOCATION:PenWAG Online Clubhouse
CATEGORIES:Meetings and Lectures,Online Event,PenWAG Monday Muse
ATTACH;FMTTYPE=image/jpeg:https://penwag.org/wp-content/uploads/2021/01/1304741.jpg
END:VEVENT
BEGIN:VEVENT
DTSTART;TZID=America/Los_Angeles:20250915T190000
DTEND;TZID=America/Los_Angeles:20250915T203000
DTSTAMP:20260420T072055
CREATED:20250125T205820Z
LAST-MODIFIED:20250205T035337Z
UID:36737-1757962800-1757968200@penwag.org
SUMMARY:September 2025 Monday Muse
DESCRIPTION:Our monthly just-for-fun Zoom schmoozefest! \nLog-in details are sent via email to all Active PenWAG Members
URL:https://penwag.org/event/september-2025-monday-muse/
LOCATION:PenWAG Online Clubhouse
CATEGORIES:Meetings and Lectures,Online Event,PenWAG Monday Muse
ATTACH;FMTTYPE=image/jpeg:https://penwag.org/wp-content/uploads/2021/01/1304741.jpg
END:VEVENT
BEGIN:VEVENT
DTSTART;TZID=America/Los_Angeles:20250818T190000
DTEND;TZID=America/Los_Angeles:20250818T203000
DTSTAMP:20260420T072055
CREATED:20250125T205613Z
LAST-MODIFIED:20250205T034507Z
UID:36736-1755543600-1755549000@penwag.org
SUMMARY:August 2025 Monday Muse
DESCRIPTION:Our monthly just-for-fun Zoom schmoozefest! \nLog-in details are sent via email to all Active PenWAG Members
URL:https://penwag.org/event/august-2025-monday-muse/
LOCATION:PenWAG Online Clubhouse
CATEGORIES:Meetings and Lectures,Online Event,PenWAG Monday Muse
ATTACH;FMTTYPE=image/jpeg:https://penwag.org/wp-content/uploads/2021/01/1304741.jpg
END:VEVENT
BEGIN:VEVENT
DTSTART;TZID=America/Los_Angeles:20250721T190000
DTEND;TZID=America/Los_Angeles:20250721T203000
DTSTAMP:20260420T072055
CREATED:20250125T205510Z
LAST-MODIFIED:20250125T205648Z
UID:36735-1753124400-1753129800@penwag.org
SUMMARY:July 2025 Monday Muse
DESCRIPTION:Thought and speech bubbles \nOur monthly just-for-fun Zoom schmoozefest! \nLog-in details are sent via email to all Active PenWAG Members
URL:https://penwag.org/event/july-2025-monday-muse/
LOCATION:PenWAG Online Clubhouse
CATEGORIES:Meetings and Lectures,Online Event,PenWAG Monday Muse
ATTACH;FMTTYPE=image/jpeg:https://penwag.org/wp-content/uploads/2021/01/1304741.jpg
END:VEVENT
BEGIN:VEVENT
DTSTART;TZID=America/Los_Angeles:20250616T190000
DTEND;TZID=America/Los_Angeles:20250616T203000
DTSTAMP:20260420T072055
CREATED:20250125T205407Z
LAST-MODIFIED:20250125T205407Z
UID:36734-1750100400-1750105800@penwag.org
SUMMARY:June 2025 Monday Muse
DESCRIPTION:Thought and speech bubbles \nOur monthly just-for-fun Zoom schmoozefest! \nLog-in details are sent via email to all Active PenWAG Members
URL:https://penwag.org/event/june-2025-monday-muse/
LOCATION:PenWAG Online Clubhouse
CATEGORIES:Meetings and Lectures,Online Event,PenWAG Monday Muse
ATTACH;FMTTYPE=image/jpeg:https://penwag.org/wp-content/uploads/2021/01/1304741.jpg
END:VEVENT
BEGIN:VEVENT
DTSTART;TZID=America/Los_Angeles:20250519T190000
DTEND;TZID=America/Los_Angeles:20250519T203000
DTSTAMP:20260420T072055
CREATED:20250125T205258Z
LAST-MODIFIED:20250205T035604Z
UID:36733-1747681200-1747686600@penwag.org
SUMMARY:May 2025 Monday Muse
DESCRIPTION:Our monthly just-for-fun Zoom schmoozefest! \nLog-in details are sent via email to all Active PenWAG Members
URL:https://penwag.org/event/may-2025-monday-muse/
LOCATION:PenWAG Online Clubhouse
CATEGORIES:Meetings and Lectures,Online Event,PenWAG Monday Muse
ATTACH;FMTTYPE=image/jpeg:https://penwag.org/wp-content/uploads/2021/01/1304741.jpg
END:VEVENT
BEGIN:VEVENT
DTSTART;TZID=America/Los_Angeles:20250421T190000
DTEND;TZID=America/Los_Angeles:20250421T203000
DTSTAMP:20260420T072055
CREATED:20250125T205207Z
LAST-MODIFIED:20250205T035902Z
UID:36732-1745262000-1745267400@penwag.org
SUMMARY:April 2025 Monday Muse
DESCRIPTION:Our monthly just-for-fun Zoom schmoozefest! \nLog-in details are sent via email to all Active PenWAG Members
URL:https://penwag.org/event/april-2025-monday-muse/
LOCATION:PenWAG Online Clubhouse
CATEGORIES:Meetings and Lectures,Online Event,PenWAG Monday Muse
ATTACH;FMTTYPE=image/jpeg:https://penwag.org/wp-content/uploads/2021/01/1304741.jpg
END:VEVENT
BEGIN:VEVENT
DTSTART;TZID=America/Los_Angeles:20250317T190000
DTEND;TZID=America/Los_Angeles:20250317T203000
DTSTAMP:20260420T072055
CREATED:20250125T204447Z
LAST-MODIFIED:20250205T040003Z
UID:36730-1742238000-1742243400@penwag.org
SUMMARY:March 2025 Monday Muse
DESCRIPTION:Our monthly just-for-fun Zoom schmoozefest! \nLog-in details are sent via email to all Active PenWAG Members
URL:https://penwag.org/event/march-2025-monday-muse/
LOCATION:PenWAG Online Clubhouse
CATEGORIES:Meetings and Lectures,Online Event,PenWAG Monday Muse
ATTACH;FMTTYPE=image/jpeg:https://penwag.org/wp-content/uploads/2021/01/1304741.jpg
END:VEVENT
BEGIN:VEVENT
DTSTART;TZID=America/Los_Angeles:20250217T190000
DTEND;TZID=America/Los_Angeles:20250217T203000
DTSTAMP:20260420T072055
CREATED:20250125T204029Z
LAST-MODIFIED:20250205T040349Z
UID:36728-1739818800-1739824200@penwag.org
SUMMARY:February 2025 Monday Muse
DESCRIPTION:Our monthly just-for-fun Zoom schmoozefest! \nLog-in details are sent via email to all Active PenWAG Members
URL:https://penwag.org/event/february-2025-monday-muse/
LOCATION:PenWAG Online Clubhouse
CATEGORIES:Meetings and Lectures,Online Event,PenWAG Monday Muse
ATTACH;FMTTYPE=image/jpeg:https://penwag.org/wp-content/uploads/2021/01/1304741.jpg
END:VEVENT
BEGIN:VEVENT
DTSTART;TZID=America/Los_Angeles:20250120T190000
DTEND;TZID=America/Los_Angeles:20250120T203000
DTSTAMP:20260420T072055
CREATED:20250109T154008Z
LAST-MODIFIED:20250109T154008Z
UID:36672-1737399600-1737405000@penwag.org
SUMMARY:January 2025 Monday Muse
DESCRIPTION:Thought and speech bubbles \nOur monthly just-for-fun Zoom schmoozefest! \nLog-in details are sent via email to all Active PenWAG Members
URL:https://penwag.org/event/january-2025-monday-muse/
LOCATION:PenWAG Online Clubhouse
CATEGORIES:Meetings and Lectures,Online Event,PenWAG Monday Muse
ATTACH;FMTTYPE=image/jpeg:https://penwag.org/wp-content/uploads/2021/01/1304741.jpg
ORGANIZER;CN="PenWAG (Peninsula Wearable Arts Guild)":MAILTO:info@penwag.org
END:VEVENT
BEGIN:VEVENT
DTSTART;TZID=America/Los_Angeles:20241216T190000
DTEND;TZID=America/Los_Angeles:20241216T203000
DTSTAMP:20260420T072055
CREATED:20231204T191447Z
LAST-MODIFIED:20231204T191447Z
UID:35240-1734375600-1734381000@penwag.org
SUMMARY:December 2024 Monday Muse
DESCRIPTION:Thought and speech bubbles \nOur monthly just-for-fun Zoom schmoozefest! \nLog-in details are sent via email to all Active PenWAG Members
URL:https://penwag.org/event/december-2024-monday-muse/
LOCATION:PenWAG Online Clubhouse
CATEGORIES:Meetings and Lectures,Online Event,PenWAG Monday Muse
ATTACH;FMTTYPE=image/jpeg:https://penwag.org/wp-content/uploads/2021/01/1304741.jpg
ORGANIZER;CN="PenWAG (Peninsula Wearable Arts Guild)":MAILTO:info@penwag.org
END:VEVENT
BEGIN:VEVENT
DTSTART;TZID=America/Los_Angeles:20241118T190000
DTEND;TZID=America/Los_Angeles:20241118T203000
DTSTAMP:20260420T072055
CREATED:20231204T191834Z
LAST-MODIFIED:20231204T191834Z
UID:35239-1731956400-1731961800@penwag.org
SUMMARY:November 2024 Monday Muse
DESCRIPTION:Thought and speech bubbles \nOur monthly just-for-fun Zoom schmoozefest! \nLog-in details are sent via email to all Active PenWAG Members
URL:https://penwag.org/event/november-2024-monday-muse/
LOCATION:PenWAG Online Clubhouse
CATEGORIES:Meetings and Lectures,Online Event,PenWAG Monday Muse
ATTACH;FMTTYPE=image/jpeg:https://penwag.org/wp-content/uploads/2021/01/1304741.jpg
ORGANIZER;CN="PenWAG (Peninsula Wearable Arts Guild)":MAILTO:info@penwag.org
END:VEVENT
BEGIN:VEVENT
DTSTART;TZID=America/Los_Angeles:20241021T190000
DTEND;TZID=America/Los_Angeles:20241021T203000
DTSTAMP:20260420T072055
CREATED:20231204T191811Z
LAST-MODIFIED:20231204T191811Z
UID:35238-1729537200-1729542600@penwag.org
SUMMARY:October 2024 Monday Muse
DESCRIPTION:Thought and speech bubbles \nOur monthly just-for-fun Zoom schmoozefest! \nLog-in details are sent via email to all Active PenWAG Members
URL:https://penwag.org/event/october-2024-monday-muse/
LOCATION:PenWAG Online Clubhouse
CATEGORIES:Meetings and Lectures,Online Event,PenWAG Monday Muse
ATTACH;FMTTYPE=image/jpeg:https://penwag.org/wp-content/uploads/2021/01/1304741.jpg
ORGANIZER;CN="PenWAG (Peninsula Wearable Arts Guild)":MAILTO:info@penwag.org
END:VEVENT
BEGIN:VEVENT
DTSTART;TZID=America/Los_Angeles:20240916T190000
DTEND;TZID=America/Los_Angeles:20240916T203000
DTSTAMP:20260420T072055
CREATED:20231204T191747Z
LAST-MODIFIED:20240911T220438Z
UID:35237-1726513200-1726518600@penwag.org
SUMMARY:September 2024 Monday Muse
DESCRIPTION:Thought and speech bubbles \nOur monthly just-for-fun Zoom schmoozefest! \nLog-in details are sent via email to all Active PenWAG Members
URL:https://penwag.org/event/september-2024-monday-muse/
LOCATION:PenWAG Online Clubhouse
CATEGORIES:Meetings and Lectures,Online Event,PenWAG Monday Muse
ATTACH;FMTTYPE=image/jpeg:https://penwag.org/wp-content/uploads/2021/01/1304741.jpg
ORGANIZER;CN="PenWAG (Peninsula Wearable Arts Guild)":MAILTO:info@penwag.org
END:VEVENT
BEGIN:VEVENT
DTSTART;TZID=America/Los_Angeles:20240819T190000
DTEND;TZID=America/Los_Angeles:20240819T203000
DTSTAMP:20260420T072055
CREATED:20231204T191716Z
LAST-MODIFIED:20231204T191716Z
UID:35236-1724094000-1724099400@penwag.org
SUMMARY:August 2024 Monday Muse
DESCRIPTION:Thought and speech bubbles \nOur monthly just-for-fun Zoom schmoozefest! \nLog-in details are sent via email to all Active PenWAG Members
URL:https://penwag.org/event/august-2024-monday-muse/
LOCATION:PenWAG Online Clubhouse
CATEGORIES:Meetings and Lectures,Online Event,PenWAG Monday Muse
ATTACH;FMTTYPE=image/jpeg:https://penwag.org/wp-content/uploads/2021/01/1304741.jpg
ORGANIZER;CN="PenWAG (Peninsula Wearable Arts Guild)":MAILTO:info@penwag.org
END:VEVENT
BEGIN:VEVENT
DTSTART;TZID=America/Los_Angeles:20240715T190000
DTEND;TZID=America/Los_Angeles:20240715T203000
DTSTAMP:20260420T072055
CREATED:20231204T191648Z
LAST-MODIFIED:20231204T191648Z
UID:35235-1721070000-1721075400@penwag.org
SUMMARY:July  2024 Monday Muse
DESCRIPTION:Thought and speech bubbles \nOur monthly just-for-fun Zoom schmoozefest! \nLog-in details are sent via email to all Active PenWAG Members
URL:https://penwag.org/event/july-2024-monday-muse/
LOCATION:PenWAG Online Clubhouse
CATEGORIES:Meetings and Lectures,Online Event,PenWAG Monday Muse
ATTACH;FMTTYPE=image/jpeg:https://penwag.org/wp-content/uploads/2021/01/1304741.jpg
ORGANIZER;CN="PenWAG (Peninsula Wearable Arts Guild)":MAILTO:info@penwag.org
END:VEVENT
BEGIN:VEVENT
DTSTART;TZID=America/Los_Angeles:20240617T190000
DTEND;TZID=America/Los_Angeles:20240617T203000
DTSTAMP:20260420T072055
CREATED:20231204T191622Z
LAST-MODIFIED:20231204T191622Z
UID:35234-1718650800-1718656200@penwag.org
SUMMARY:June 2024 Monday Muse
DESCRIPTION:Thought and speech bubbles \nOur monthly just-for-fun Zoom schmoozefest! \nLog-in details are sent via email to all Active PenWAG Members
URL:https://penwag.org/event/june-2024-monday-muse/
LOCATION:PenWAG Online Clubhouse
CATEGORIES:Meetings and Lectures,Online Event,PenWAG Monday Muse
ATTACH;FMTTYPE=image/jpeg:https://penwag.org/wp-content/uploads/2021/01/1304741.jpg
ORGANIZER;CN="PenWAG (Peninsula Wearable Arts Guild)":MAILTO:info@penwag.org
END:VEVENT
BEGIN:VEVENT
DTSTART;TZID=America/Los_Angeles:20240520T190000
DTEND;TZID=America/Los_Angeles:20240520T203000
DTSTAMP:20260420T072055
CREATED:20231204T191237Z
LAST-MODIFIED:20231204T191237Z
UID:35233-1716231600-1716237000@penwag.org
SUMMARY:May 2024 Monday Muse
DESCRIPTION:Thought and speech bubbles \nOur monthly just-for-fun Zoom schmoozefest! \nLog-in details are sent via email to all Active PenWAG Members
URL:https://penwag.org/event/may-2024-monday-muse/
LOCATION:PenWAG Online Clubhouse
CATEGORIES:Meetings and Lectures,Online Event,PenWAG Monday Muse
ATTACH;FMTTYPE=image/jpeg:https://penwag.org/wp-content/uploads/2021/01/1304741.jpg
ORGANIZER;CN="PenWAG (Peninsula Wearable Arts Guild)":MAILTO:info@penwag.org
END:VEVENT
BEGIN:VEVENT
DTSTART;TZID=America/Los_Angeles:20240415T190000
DTEND;TZID=America/Los_Angeles:20240415T203000
DTSTAMP:20260420T072055
CREATED:20231204T191558Z
LAST-MODIFIED:20231204T191558Z
UID:35232-1713207600-1713213000@penwag.org
SUMMARY:April 2024 Monday Muse
DESCRIPTION:Thought and speech bubbles \nOur monthly just-for-fun Zoom schmoozefest! \nLog-in details are sent via email to all Active PenWAG Members
URL:https://penwag.org/event/april-2024-monday-muse/
LOCATION:PenWAG Online Clubhouse
CATEGORIES:Meetings and Lectures,Online Event,PenWAG Monday Muse
ATTACH;FMTTYPE=image/jpeg:https://penwag.org/wp-content/uploads/2021/01/1304741.jpg
ORGANIZER;CN="PenWAG (Peninsula Wearable Arts Guild)":MAILTO:info@penwag.org
END:VEVENT
BEGIN:VEVENT
DTSTART;TZID=America/Los_Angeles:20240318T190000
DTEND;TZID=America/Los_Angeles:20240318T203000
DTSTAMP:20260420T072055
CREATED:20231204T191535Z
LAST-MODIFIED:20231204T191535Z
UID:35231-1710788400-1710793800@penwag.org
SUMMARY:March 2024 Monday Muse
DESCRIPTION:Thought and speech bubbles \nOur monthly just-for-fun Zoom schmoozefest! \nLog-in details are sent via email to all Active PenWAG Members
URL:https://penwag.org/event/march-2024-monday-muse/
LOCATION:PenWAG Online Clubhouse
CATEGORIES:Meetings and Lectures,Online Event,PenWAG Monday Muse
ATTACH;FMTTYPE=image/jpeg:https://penwag.org/wp-content/uploads/2021/01/1304741.jpg
ORGANIZER;CN="PenWAG (Peninsula Wearable Arts Guild)":MAILTO:info@penwag.org
END:VEVENT
BEGIN:VEVENT
DTSTART;TZID=America/Los_Angeles:20240219T190000
DTEND;TZID=America/Los_Angeles:20240219T203000
DTSTAMP:20260420T072055
CREATED:20231204T191512Z
LAST-MODIFIED:20231204T191512Z
UID:35230-1708369200-1708374600@penwag.org
SUMMARY:February 2024 Monday Muse
DESCRIPTION:Thought and speech bubbles \nOur monthly just-for-fun Zoom schmoozefest! \nLog-in details are sent via email to all Active PenWAG Members
URL:https://penwag.org/event/february-2024-monday-muse/
LOCATION:PenWAG Online Clubhouse
CATEGORIES:Meetings and Lectures,Online Event,PenWAG Monday Muse
ATTACH;FMTTYPE=image/jpeg:https://penwag.org/wp-content/uploads/2021/01/1304741.jpg
ORGANIZER;CN="PenWAG (Peninsula Wearable Arts Guild)":MAILTO:info@penwag.org
END:VEVENT
BEGIN:VEVENT
DTSTART;TZID=America/Los_Angeles:20240115T190000
DTEND;TZID=America/Los_Angeles:20240115T203000
DTSTAMP:20260420T072055
CREATED:20231204T190722Z
LAST-MODIFIED:20231204T191909Z
UID:35228-1705345200-1705350600@penwag.org
SUMMARY:January 2024 Monday Muse
DESCRIPTION:Thought and speech bubbles \nOur monthly just-for-fun Zoom schmoozefest! \nLog-in details are sent via email to all Active PenWAG Members
URL:https://penwag.org/event/january-2024-monday-muse/
LOCATION:PenWAG Online Clubhouse
CATEGORIES:Meetings and Lectures,Online Event,PenWAG Monday Muse
ATTACH;FMTTYPE=image/jpeg:https://penwag.org/wp-content/uploads/2021/01/1304741.jpg
ORGANIZER;CN="PenWAG (Peninsula Wearable Arts Guild)":MAILTO:info@penwag.org
END:VEVENT
BEGIN:VEVENT
DTSTART;TZID=America/Los_Angeles:20231218T190000
DTEND;TZID=America/Los_Angeles:20231218T203000
DTSTAMP:20260420T072055
CREATED:20221111T234146Z
LAST-MODIFIED:20221111T234146Z
UID:32367-1702926000-1702931400@penwag.org
SUMMARY:December 2023 Monday Muse
DESCRIPTION:Thought and speech bubbles \nOur monthly just-for-fun Zoom schmoozefest! \nLog-in details are sent via email to all Active PenWAG Members
URL:https://penwag.org/event/december-2023-monday-muse/
LOCATION:PenWAG Online Clubhouse
CATEGORIES:Meetings and Lectures,Online Event,PenWAG Monday Muse
ATTACH;FMTTYPE=image/jpeg:https://penwag.org/wp-content/uploads/2021/01/1304741.jpg
END:VEVENT
BEGIN:VEVENT
DTSTART;TZID=America/Los_Angeles:20231120T190000
DTEND;TZID=America/Los_Angeles:20231120T203000
DTSTAMP:20260420T072055
CREATED:20221111T234052Z
LAST-MODIFIED:20221111T234052Z
UID:32361-1700506800-1700512200@penwag.org
SUMMARY:November 2023 Monday Muse
DESCRIPTION:Thought and speech bubbles \nOur monthly just-for-fun Zoom schmoozefest! \nLog-in details are sent via email to all Active PenWAG Members
URL:https://penwag.org/event/november-2023-monday-muse/
LOCATION:PenWAG Online Clubhouse
CATEGORIES:Meetings and Lectures,Online Event,PenWAG Monday Muse
ATTACH;FMTTYPE=image/jpeg:https://penwag.org/wp-content/uploads/2021/01/1304741.jpg
END:VEVENT
BEGIN:VEVENT
DTSTART;TZID=America/Los_Angeles:20231016T190000
DTEND;TZID=America/Los_Angeles:20231016T203000
DTSTAMP:20260420T072055
CREATED:20221111T233955Z
LAST-MODIFIED:20221111T233955Z
UID:32360-1697482800-1697488200@penwag.org
SUMMARY:October 2023 Monday Muse
DESCRIPTION:Thought and speech bubbles \nOur monthly just-for-fun Zoom schmoozefest! \nLog-in details are sent via email to all Active PenWAG Members
URL:https://penwag.org/event/october-2023-monday-muse/
LOCATION:PenWAG Online Clubhouse
CATEGORIES:Meetings and Lectures,Online Event,PenWAG Monday Muse
ATTACH;FMTTYPE=image/jpeg:https://penwag.org/wp-content/uploads/2021/01/1304741.jpg
END:VEVENT
END:VCALENDAR