BEGIN:VCALENDAR
VERSION:2.0
PRODID:-//PenWAG - ECPv6.15.20//NONSGML v1.0//EN
CALSCALE:GREGORIAN
METHOD:PUBLISH
X-WR-CALNAME:PenWAG
X-ORIGINAL-URL:https://penwag.org
X-WR-CALDESC:Events for PenWAG
REFRESH-INTERVAL;VALUE=DURATION:PT1H
X-Robots-Tag:noindex
X-PUBLISHED-TTL:PT1H
BEGIN:VTIMEZONE
TZID:America/Los_Angeles
BEGIN:DAYLIGHT
TZOFFSETFROM:-0800
TZOFFSETTO:-0700
TZNAME:PDT
DTSTART:20250309T100000
END:DAYLIGHT
BEGIN:STANDARD
TZOFFSETFROM:-0700
TZOFFSETTO:-0800
TZNAME:PST
DTSTART:20251102T090000
END:STANDARD
BEGIN:DAYLIGHT
TZOFFSETFROM:-0800
TZOFFSETTO:-0700
TZNAME:PDT
DTSTART:20260308T100000
END:DAYLIGHT
BEGIN:STANDARD
TZOFFSETFROM:-0700
TZOFFSETTO:-0800
TZNAME:PST
DTSTART:20261101T090000
END:STANDARD
BEGIN:DAYLIGHT
TZOFFSETFROM:-0800
TZOFFSETTO:-0700
TZNAME:PDT
DTSTART:20270314T100000
END:DAYLIGHT
BEGIN:STANDARD
TZOFFSETFROM:-0700
TZOFFSETTO:-0800
TZNAME:PST
DTSTART:20271107T090000
END:STANDARD
BEGIN:DAYLIGHT
TZOFFSETFROM:-0800
TZOFFSETTO:-0700
TZNAME:PDT
DTSTART:20280312T100000
END:DAYLIGHT
BEGIN:STANDARD
TZOFFSETFROM:-0700
TZOFFSETTO:-0800
TZNAME:PST
DTSTART:20281105T090000
END:STANDARD
BEGIN:DAYLIGHT
TZOFFSETFROM:-0800
TZOFFSETTO:-0700
TZNAME:PDT
DTSTART:20290311T100000
END:DAYLIGHT
BEGIN:STANDARD
TZOFFSETFROM:-0700
TZOFFSETTO:-0800
TZNAME:PST
DTSTART:20291104T090000
END:STANDARD
BEGIN:DAYLIGHT
TZOFFSETFROM:-0800
TZOFFSETTO:-0700
TZNAME:PDT
DTSTART:20300310T100000
END:DAYLIGHT
BEGIN:STANDARD
TZOFFSETFROM:-0700
TZOFFSETTO:-0800
TZNAME:PST
DTSTART:20301103T090000
END:STANDARD
BEGIN:DAYLIGHT
TZOFFSETFROM:-0800
TZOFFSETTO:-0700
TZNAME:PDT
DTSTART:20310309T100000
END:DAYLIGHT
BEGIN:STANDARD
TZOFFSETFROM:-0700
TZOFFSETTO:-0800
TZNAME:PST
DTSTART:20311102T090000
END:STANDARD
END:VTIMEZONE
BEGIN:VEVENT
DTSTART;TZID=America/Los_Angeles:20260518T190000
DTEND;TZID=America/Los_Angeles:20260518T203000
DTSTAMP:20260422T013144
CREATED:20251108T020625Z
LAST-MODIFIED:20251108T020625Z
UID:37609-1779130800-1779136200@penwag.org
SUMMARY:May 2026 Monday Muse
DESCRIPTION:Our monthly just-for-fun Zoom schmoozefest! \nLog-in details are sent via email to all Active PenWAG Members
URL:https://penwag.org/event/may-2026-monday-muse/
LOCATION:PenWAG Online Clubhouse
CATEGORIES:Meetings and Lectures,Online Event,PenWAG Monday Muse
ATTACH;FMTTYPE=image/jpeg:https://penwag.org/wp-content/uploads/2021/01/1304741.jpg
END:VEVENT
BEGIN:VEVENT
DTSTART;TZID=America/Los_Angeles:20260615T190000
DTEND;TZID=America/Los_Angeles:20260615T203000
DTSTAMP:20260422T013144
CREATED:20251108T020802Z
LAST-MODIFIED:20251108T020802Z
UID:37611-1781550000-1781555400@penwag.org
SUMMARY:June 2026 Monday Muse
DESCRIPTION:Our monthly just-for-fun Zoom schmoozefest! \nLog-in details are sent via email to all Active PenWAG Members
URL:https://penwag.org/event/june-2026-monday-muse/
LOCATION:PenWAG Online Clubhouse
CATEGORIES:Meetings and Lectures,Online Event,PenWAG Monday Muse
ATTACH;FMTTYPE=image/jpeg:https://penwag.org/wp-content/uploads/2021/01/1304741.jpg
END:VEVENT
BEGIN:VEVENT
DTSTART;TZID=America/Los_Angeles:20260720T190000
DTEND;TZID=America/Los_Angeles:20260720T203000
DTSTAMP:20260422T013144
CREATED:20251108T021019Z
LAST-MODIFIED:20251108T021019Z
UID:37613-1784574000-1784579400@penwag.org
SUMMARY:July 2026 Monday Muse
DESCRIPTION:Our monthly just-for-fun Zoom schmoozefest! \nLog-in details are sent via email to all Active PenWAG Members
URL:https://penwag.org/event/july-2026-monday-muse/
LOCATION:PenWAG Online Clubhouse
CATEGORIES:Meetings and Lectures,Online Event,PenWAG Monday Muse
ATTACH;FMTTYPE=image/jpeg:https://penwag.org/wp-content/uploads/2021/01/1304741.jpg
END:VEVENT
BEGIN:VEVENT
DTSTART;TZID=America/Los_Angeles:20260817T190000
DTEND;TZID=America/Los_Angeles:20260817T203000
DTSTAMP:20260422T013144
CREATED:20251108T021353Z
LAST-MODIFIED:20251108T021353Z
UID:37615-1786993200-1786998600@penwag.org
SUMMARY:August 2026 Monday Muse
DESCRIPTION:Our monthly just-for-fun Zoom schmoozefest! \nLog-in details are sent via email to all Active PenWAG Members
URL:https://penwag.org/event/august-2026-monday-muse/
LOCATION:PenWAG Online Clubhouse
CATEGORIES:Meetings and Lectures,Online Event,PenWAG Monday Muse
ATTACH;FMTTYPE=image/jpeg:https://penwag.org/wp-content/uploads/2021/01/1304741.jpg
END:VEVENT
BEGIN:VEVENT
DTSTART;TZID=America/Los_Angeles:20260921T190000
DTEND;TZID=America/Los_Angeles:20260921T203000
DTSTAMP:20260422T013144
CREATED:20251108T021618Z
LAST-MODIFIED:20251108T021618Z
UID:37617-1790017200-1790022600@penwag.org
SUMMARY:September 2026 Monday Muse
DESCRIPTION:Our monthly just-for-fun Zoom schmoozefest! \nLog-in details are sent via email to all Active PenWAG Members
URL:https://penwag.org/event/september-2026-monday-muse/
LOCATION:PenWAG Online Clubhouse
CATEGORIES:Meetings and Lectures,Online Event,PenWAG Monday Muse
ATTACH;FMTTYPE=image/jpeg:https://penwag.org/wp-content/uploads/2021/01/1304741.jpg
END:VEVENT
BEGIN:VEVENT
DTSTART;TZID=America/Los_Angeles:20261019T190000
DTEND;TZID=America/Los_Angeles:20261019T203000
DTSTAMP:20260422T013144
CREATED:20251108T021746Z
LAST-MODIFIED:20251108T021746Z
UID:37619-1792436400-1792441800@penwag.org
SUMMARY:October 2026 Monday Muse
DESCRIPTION:Our monthly just-for-fun Zoom schmoozefest! \nLog-in details are sent via email to all Active PenWAG Members
URL:https://penwag.org/event/october-2026-monday-muse/
LOCATION:PenWAG Online Clubhouse
CATEGORIES:Meetings and Lectures,Online Event,PenWAG Monday Muse
ATTACH;FMTTYPE=image/jpeg:https://penwag.org/wp-content/uploads/2021/01/1304741.jpg
END:VEVENT
BEGIN:VEVENT
DTSTART;TZID=America/Los_Angeles:20300121T190000
DTEND;TZID=America/Los_Angeles:20300121T203000
DTSTAMP:20260422T013144
CREATED:20211106T163244Z
LAST-MODIFIED:20250205T034539Z
UID:29450-1895252400-1895257800@penwag.org
SUMMARY:Monday Muse (template)
DESCRIPTION:Our monthly just-for-fun Zoom schmoozefest! \nLog-in details are sent via email to all Active PenWAG Members
URL:https://penwag.org/event/monday-muse-template/
LOCATION:PenWAG Online Clubhouse
CATEGORIES:Meetings and Lectures,Online Event,PenWAG Monday Muse
ATTACH;FMTTYPE=image/jpeg:https://penwag.org/wp-content/uploads/2021/01/1304741.jpg
END:VEVENT
END:VCALENDAR