BEGIN:VCALENDAR
VERSION:2.0
PRODID:-//PenWAG - ECPv6.15.20//NONSGML v1.0//EN
CALSCALE:GREGORIAN
METHOD:PUBLISH
X-WR-CALNAME:PenWAG
X-ORIGINAL-URL:https://penwag.org
X-WR-CALDESC:Events for PenWAG
REFRESH-INTERVAL;VALUE=DURATION:PT1H
X-Robots-Tag:noindex
X-PUBLISHED-TTL:PT1H
BEGIN:VTIMEZONE
TZID:America/Los_Angeles
BEGIN:DAYLIGHT
TZOFFSETFROM:-0800
TZOFFSETTO:-0700
TZNAME:PDT
DTSTART:20200308T100000
END:DAYLIGHT
BEGIN:STANDARD
TZOFFSETFROM:-0700
TZOFFSETTO:-0800
TZNAME:PST
DTSTART:20201101T090000
END:STANDARD
BEGIN:DAYLIGHT
TZOFFSETFROM:-0800
TZOFFSETTO:-0700
TZNAME:PDT
DTSTART:20210314T100000
END:DAYLIGHT
BEGIN:STANDARD
TZOFFSETFROM:-0700
TZOFFSETTO:-0800
TZNAME:PST
DTSTART:20211107T090000
END:STANDARD
BEGIN:DAYLIGHT
TZOFFSETFROM:-0800
TZOFFSETTO:-0700
TZNAME:PDT
DTSTART:20220313T100000
END:DAYLIGHT
BEGIN:STANDARD
TZOFFSETFROM:-0700
TZOFFSETTO:-0800
TZNAME:PST
DTSTART:20221106T090000
END:STANDARD
BEGIN:DAYLIGHT
TZOFFSETFROM:-0800
TZOFFSETTO:-0700
TZNAME:PDT
DTSTART:20230312T100000
END:DAYLIGHT
BEGIN:STANDARD
TZOFFSETFROM:-0700
TZOFFSETTO:-0800
TZNAME:PST
DTSTART:20231105T090000
END:STANDARD
BEGIN:DAYLIGHT
TZOFFSETFROM:-0800
TZOFFSETTO:-0700
TZNAME:PDT
DTSTART:20240310T100000
END:DAYLIGHT
BEGIN:STANDARD
TZOFFSETFROM:-0700
TZOFFSETTO:-0800
TZNAME:PST
DTSTART:20241103T090000
END:STANDARD
END:VTIMEZONE
BEGIN:VEVENT
DTSTART;TZID=America/Los_Angeles:20230417T190000
DTEND;TZID=America/Los_Angeles:20230417T203000
DTSTAMP:20260422T032140
CREATED:20221111T233446Z
LAST-MODIFIED:20221111T233854Z
UID:32347-1681758000-1681763400@penwag.org
SUMMARY:April 2023 Monday Muse
DESCRIPTION:Thought and speech bubbles \nOur monthly just-for-fun Zoom schmoozefest! \nLog-in details are sent via email to all Active PenWAG Members
URL:https://penwag.org/event/april-2023-monday-muse/
LOCATION:PenWAG Online Clubhouse
CATEGORIES:Meetings and Lectures,Online Event,PenWAG Monday Muse
ATTACH;FMTTYPE=image/jpeg:https://penwag.org/wp-content/uploads/2021/01/1304741.jpg
END:VEVENT
BEGIN:VEVENT
DTSTART;TZID=America/Los_Angeles:20230320T190000
DTEND;TZID=America/Los_Angeles:20230320T203000
DTSTAMP:20260422T032140
CREATED:20221111T232916Z
LAST-MODIFIED:20221111T232916Z
UID:32345-1679338800-1679344200@penwag.org
SUMMARY:March 2023 Monday Muse
DESCRIPTION:Thought and speech bubbles \nOur monthly just-for-fun Zoom schmoozefest! \nLog-in details are sent via email to all Active PenWAG Members
URL:https://penwag.org/event/march-2023-monday-muse/
LOCATION:PenWAG Online Clubhouse
CATEGORIES:Meetings and Lectures,Online Event,PenWAG Monday Muse
ATTACH;FMTTYPE=image/jpeg:https://penwag.org/wp-content/uploads/2021/01/1304741.jpg
END:VEVENT
BEGIN:VEVENT
DTSTART;TZID=America/Los_Angeles:20230220T190000
DTEND;TZID=America/Los_Angeles:20230220T203000
DTSTAMP:20260422T032140
CREATED:20221111T232755Z
LAST-MODIFIED:20221111T232813Z
UID:32343-1676919600-1676925000@penwag.org
SUMMARY:February 2023 Monday Muse
DESCRIPTION:Thought and speech bubbles \nOur monthly just-for-fun Zoom schmoozefest! \nLog-in details are sent via email to all Active PenWAG Members
URL:https://penwag.org/event/february-2023-monday-muse/
LOCATION:PenWAG Online Clubhouse
CATEGORIES:Meetings and Lectures,Online Event,PenWAG Monday Muse
ATTACH;FMTTYPE=image/jpeg:https://penwag.org/wp-content/uploads/2021/01/1304741.jpg
END:VEVENT
BEGIN:VEVENT
DTSTART;TZID=America/Los_Angeles:20230116T190000
DTEND;TZID=America/Los_Angeles:20230116T203000
DTSTAMP:20260422T032140
CREATED:20221111T233128Z
LAST-MODIFIED:20221111T233128Z
UID:32348-1673895600-1673901000@penwag.org
SUMMARY:January 2023 Monday Muse
DESCRIPTION:Thought and speech bubbles \nOur monthly just-for-fun Zoom schmoozefest! \nLog-in details are sent via email to all Active PenWAG Members
URL:https://penwag.org/event/february-2023-monday-muse-2/
LOCATION:PenWAG Online Clubhouse
CATEGORIES:Meetings and Lectures,Online Event,PenWAG Monday Muse
ATTACH;FMTTYPE=image/jpeg:https://penwag.org/wp-content/uploads/2021/01/1304741.jpg
END:VEVENT
BEGIN:VEVENT
DTSTART;TZID=America/Los_Angeles:20221219T190000
DTEND;TZID=America/Los_Angeles:20221219T203000
DTSTAMP:20260422T032140
CREATED:20211205T181810Z
LAST-MODIFIED:20211205T181810Z
UID:29898-1671476400-1671481800@penwag.org
SUMMARY:December 2022 Monday Muse
DESCRIPTION:Thought and speech bubbles \nOur monthly just-for-fun Zoom schmoozefest! \nLog-in details are sent via email to all Active PenWAG Members
URL:https://penwag.org/event/december-2022-monday-muse/
LOCATION:PenWAG Online Clubhouse
CATEGORIES:Meetings and Lectures,Online Event,PenWAG Monday Muse
ATTACH;FMTTYPE=image/jpeg:https://penwag.org/wp-content/uploads/2021/01/1304741.jpg
END:VEVENT
BEGIN:VEVENT
DTSTART;TZID=America/Los_Angeles:20221121T190000
DTEND;TZID=America/Los_Angeles:20221121T203000
DTSTAMP:20260422T032140
CREATED:20211205T181727Z
LAST-MODIFIED:20211205T181727Z
UID:29896-1669057200-1669062600@penwag.org
SUMMARY:November 2022 Monday Muse
DESCRIPTION:Thought and speech bubbles \nOur monthly just-for-fun Zoom schmoozefest! \nLog-in details are sent via email to all Active PenWAG Members
URL:https://penwag.org/event/november-2022-monday-muse/
LOCATION:PenWAG Online Clubhouse
CATEGORIES:Meetings and Lectures,Online Event,PenWAG Monday Muse
ATTACH;FMTTYPE=image/jpeg:https://penwag.org/wp-content/uploads/2021/01/1304741.jpg
END:VEVENT
BEGIN:VEVENT
DTSTART;TZID=America/Los_Angeles:20221017T190000
DTEND;TZID=America/Los_Angeles:20221017T203000
DTSTAMP:20260422T032140
CREATED:20211205T181633Z
LAST-MODIFIED:20211205T181633Z
UID:29894-1666033200-1666038600@penwag.org
SUMMARY:October 2022 Monday Muse
DESCRIPTION:Thought and speech bubbles \nOur monthly just-for-fun Zoom schmoozefest! \nLog-in details are sent via email to all Active PenWAG Members
URL:https://penwag.org/event/october-2022-monday-muse/
LOCATION:PenWAG Online Clubhouse
CATEGORIES:Meetings and Lectures,Online Event,PenWAG Monday Muse
ATTACH;FMTTYPE=image/jpeg:https://penwag.org/wp-content/uploads/2021/01/1304741.jpg
END:VEVENT
BEGIN:VEVENT
DTSTART;TZID=America/Los_Angeles:20220919T190000
DTEND;TZID=America/Los_Angeles:20220919T203000
DTSTAMP:20260422T032140
CREATED:20211205T181600Z
LAST-MODIFIED:20211205T181600Z
UID:29892-1663614000-1663619400@penwag.org
SUMMARY:September 2022 Monday Muse
DESCRIPTION:Thought and speech bubbles \nOur monthly just-for-fun Zoom schmoozefest! \nLog-in details are sent via email to all Active PenWAG Members
URL:https://penwag.org/event/september-2022-monday-muse/
LOCATION:PenWAG Online Clubhouse
CATEGORIES:Meetings and Lectures,Online Event,PenWAG Monday Muse
ATTACH;FMTTYPE=image/jpeg:https://penwag.org/wp-content/uploads/2021/01/1304741.jpg
END:VEVENT
BEGIN:VEVENT
DTSTART;TZID=America/Los_Angeles:20220815T190000
DTEND;TZID=America/Los_Angeles:20220815T203000
DTSTAMP:20260422T032140
CREATED:20211205T181457Z
LAST-MODIFIED:20211205T181457Z
UID:29890-1660590000-1660595400@penwag.org
SUMMARY:August 2022 Monday Muse
DESCRIPTION:Thought and speech bubbles \nOur monthly just-for-fun Zoom schmoozefest! \nLog-in details are sent via email to all Active PenWAG Members
URL:https://penwag.org/event/august-2022-monday-muse/
LOCATION:PenWAG Online Clubhouse
CATEGORIES:Meetings and Lectures,Online Event,PenWAG Monday Muse
ATTACH;FMTTYPE=image/jpeg:https://penwag.org/wp-content/uploads/2021/01/1304741.jpg
END:VEVENT
BEGIN:VEVENT
DTSTART;TZID=America/Los_Angeles:20220718T190000
DTEND;TZID=America/Los_Angeles:20220718T203000
DTSTAMP:20260422T032140
CREATED:20211205T181426Z
LAST-MODIFIED:20211205T181530Z
UID:29888-1658170800-1658176200@penwag.org
SUMMARY:July 2022 Monday Muse
DESCRIPTION:Thought and speech bubbles \nOur monthly just-for-fun Zoom schmoozefest! \nLog-in details are sent via email to all Active PenWAG Members
URL:https://penwag.org/event/july-2022-monday-muse/
LOCATION:PenWAG Online Clubhouse
CATEGORIES:Meetings and Lectures,Online Event,PenWAG Monday Muse
ATTACH;FMTTYPE=image/jpeg:https://penwag.org/wp-content/uploads/2021/01/1304741.jpg
END:VEVENT
BEGIN:VEVENT
DTSTART;TZID=America/Los_Angeles:20220620T190000
DTEND;TZID=America/Los_Angeles:20220620T203000
DTSTAMP:20260422T032140
CREATED:20211106T164025Z
LAST-MODIFIED:20211106T164025Z
UID:29464-1655751600-1655757000@penwag.org
SUMMARY:June 2022 Monday Muse
DESCRIPTION:Our monthly just-for-fun Zoom schmoozefest! \nLog-in details are sent via email to all Active PenWAG Members
URL:https://penwag.org/event/june-2022-monday-muse/
LOCATION:PenWAG Online Clubhouse
CATEGORIES:Meetings and Lectures,Online Event,PenWAG Monday Muse
ATTACH;FMTTYPE=image/jpeg:https://penwag.org/wp-content/uploads/2021/01/1304741.jpg
END:VEVENT
BEGIN:VEVENT
DTSTART;TZID=America/Los_Angeles:20220516T190000
DTEND;TZID=America/Los_Angeles:20220516T203000
DTSTAMP:20260422T032140
CREATED:20211106T163936Z
LAST-MODIFIED:20211106T163936Z
UID:29462-1652727600-1652733000@penwag.org
SUMMARY:May 2022 Monday Muse
DESCRIPTION:Our monthly just-for-fun Zoom schmoozefest! \nLog-in details are sent via email to all Active PenWAG Members
URL:https://penwag.org/event/may-2022-monday-muse/
LOCATION:PenWAG Online Clubhouse
CATEGORIES:Meetings and Lectures,Online Event,PenWAG Monday Muse
ATTACH;FMTTYPE=image/jpeg:https://penwag.org/wp-content/uploads/2021/01/1304741.jpg
END:VEVENT
BEGIN:VEVENT
DTSTART;TZID=America/Los_Angeles:20220418T190000
DTEND;TZID=America/Los_Angeles:20220418T203000
DTSTAMP:20260422T032140
CREATED:20211106T163857Z
LAST-MODIFIED:20211106T163953Z
UID:29460-1650308400-1650313800@penwag.org
SUMMARY:April 2022 Monday Muse
DESCRIPTION:Our monthly just-for-fun Zoom schmoozefest! \nLog-in details are sent via email to all Active PenWAG Members
URL:https://penwag.org/event/april-2022-monday-muse/
LOCATION:PenWAG Online Clubhouse
CATEGORIES:Meetings and Lectures,Online Event,PenWAG Monday Muse
ATTACH;FMTTYPE=image/jpeg:https://penwag.org/wp-content/uploads/2021/01/1304741.jpg
END:VEVENT
BEGIN:VEVENT
DTSTART;TZID=America/Los_Angeles:20220321T190000
DTEND;TZID=America/Los_Angeles:20220321T203000
DTSTAMP:20260422T032140
CREATED:20211106T163619Z
LAST-MODIFIED:20211106T163619Z
UID:29455-1647889200-1647894600@penwag.org
SUMMARY:March 2022 Monday Muse
DESCRIPTION:Our monthly just-for-fun Zoom schmoozefest! \nLog-in details are sent via email to all Active PenWAG Members
URL:https://penwag.org/event/march-2022-monday-muse/
LOCATION:PenWAG Online Clubhouse
CATEGORIES:Meetings and Lectures,Online Event,PenWAG Monday Muse
ATTACH;FMTTYPE=image/jpeg:https://penwag.org/wp-content/uploads/2021/01/1304741.jpg
END:VEVENT
BEGIN:VEVENT
DTSTART;TZID=America/Los_Angeles:20220221T190000
DTEND;TZID=America/Los_Angeles:20220221T203000
DTSTAMP:20260422T032140
CREATED:20211106T163339Z
LAST-MODIFIED:20211106T163414Z
UID:29452-1645470000-1645475400@penwag.org
SUMMARY:February 2022 Monday Muse
DESCRIPTION:Our monthly just-for-fun Zoom schmoozefest! \nLog-in details are sent via email to all Active PenWAG Members
URL:https://penwag.org/event/february-2022-monday-muse/
LOCATION:PenWAG Online Clubhouse
CATEGORIES:Meetings and Lectures,Online Event,PenWAG Monday Muse
ATTACH;FMTTYPE=image/jpeg:https://penwag.org/wp-content/uploads/2021/01/1304741.jpg
END:VEVENT
BEGIN:VEVENT
DTSTART;TZID=America/Los_Angeles:20220117T190000
DTEND;TZID=America/Los_Angeles:20220117T203000
DTSTAMP:20260422T032140
CREATED:20211106T163057Z
LAST-MODIFIED:20211106T163513Z
UID:29448-1642446000-1642451400@penwag.org
SUMMARY:January 2022 Monday Muse
DESCRIPTION:Our monthly just-for-fun Zoom schmoozefest! \nLog-in details are sent via email to all Active PenWAG Members
URL:https://penwag.org/event/january-2022-monday-muse-2/
LOCATION:PenWAG Online Clubhouse
CATEGORIES:Meetings and Lectures,Online Event,PenWAG Monday Muse
ATTACH;FMTTYPE=image/jpeg:https://penwag.org/wp-content/uploads/2021/01/1304741.jpg
END:VEVENT
BEGIN:VEVENT
DTSTART;TZID=America/Los_Angeles:20211220T190000
DTEND;TZID=America/Los_Angeles:20211220T203000
DTSTAMP:20260422T032140
CREATED:20210614T001156Z
LAST-MODIFIED:20211106T163700Z
UID:27838-1640026800-1640032200@penwag.org
SUMMARY:December Monday Muse
DESCRIPTION:Our monthly just-for-fun Zoom schmoozefest! \nLog-in details are sent via email to all Active PenWAG Members
URL:https://penwag.org/event/december-monday-muse/
LOCATION:PenWAG Online Clubhouse
CATEGORIES:Meetings and Lectures,Online Event,PenWAG Monday Muse
ATTACH;FMTTYPE=image/jpeg:https://penwag.org/wp-content/uploads/2021/01/1304741.jpg
END:VEVENT
BEGIN:VEVENT
DTSTART;TZID=America/Los_Angeles:20211115T190000
DTEND;TZID=America/Los_Angeles:20211115T203000
DTSTAMP:20260422T032140
CREATED:20210614T001107Z
LAST-MODIFIED:20211106T163747Z
UID:27836-1637002800-1637008200@penwag.org
SUMMARY:November Monday Muse
DESCRIPTION:Our monthly just-for-fun Zoom schmoozefest! \nLog-in details are sent via email to all Active PenWAG Members
URL:https://penwag.org/event/november-monday-muse/
LOCATION:PenWAG Online Clubhouse
CATEGORIES:Meetings and Lectures,Online Event,PenWAG Monday Muse
ATTACH;FMTTYPE=image/jpeg:https://penwag.org/wp-content/uploads/2021/01/1304741.jpg
END:VEVENT
BEGIN:VEVENT
DTSTART;TZID=America/Los_Angeles:20211018T190000
DTEND;TZID=America/Los_Angeles:20211018T203000
DTSTAMP:20260422T032140
CREATED:20210614T001020Z
LAST-MODIFIED:20210614T001020Z
UID:27834-1634583600-1634589000@penwag.org
SUMMARY:October Monday Muse
DESCRIPTION:Thought and speech bubbles \nOur monthly just-for-fun Zoom schmoozefest! \nLog-in details are sent via email to all Active PenWAG Members
URL:https://penwag.org/event/october-monday-muse/
LOCATION:PenWAG Online Clubhouse
CATEGORIES:Meetings and Lectures,Online Event,PenWAG Monday Muse
ATTACH;FMTTYPE=image/jpeg:https://penwag.org/wp-content/uploads/2021/01/1304741.jpg
END:VEVENT
BEGIN:VEVENT
DTSTART;TZID=America/Los_Angeles:20210920T190000
DTEND;TZID=America/Los_Angeles:20210920T203000
DTSTAMP:20260422T032140
CREATED:20210614T000929Z
LAST-MODIFIED:20210614T000929Z
UID:27832-1632164400-1632169800@penwag.org
SUMMARY:September Monday Muse
DESCRIPTION:Thought and speech bubbles \nOur monthly just-for-fun Zoom schmoozefest! \nLog-in details are sent via email to all Active PenWAG Members
URL:https://penwag.org/event/september-monday-muse/
LOCATION:PenWAG Online Clubhouse
CATEGORIES:Meetings and Lectures,Online Event,PenWAG Monday Muse
ATTACH;FMTTYPE=image/jpeg:https://penwag.org/wp-content/uploads/2021/01/1304741.jpg
END:VEVENT
BEGIN:VEVENT
DTSTART;TZID=America/Los_Angeles:20210816T190000
DTEND;TZID=America/Los_Angeles:20210816T203000
DTSTAMP:20260422T032140
CREATED:20210614T000846Z
LAST-MODIFIED:20210614T000846Z
UID:27830-1629140400-1629145800@penwag.org
SUMMARY:August Monday Muse
DESCRIPTION:Thought and speech bubbles \nOur monthly just-for-fun Zoom schmoozefest! \nLog-in details are sent via email to all Active PenWAG Members
URL:https://penwag.org/event/august-monday-muse/
LOCATION:PenWAG Online Clubhouse
CATEGORIES:Meetings and Lectures,Online Event,PenWAG Monday Muse
ATTACH;FMTTYPE=image/jpeg:https://penwag.org/wp-content/uploads/2021/01/1304741.jpg
END:VEVENT
BEGIN:VEVENT
DTSTART;TZID=America/Los_Angeles:20210719T190000
DTEND;TZID=America/Los_Angeles:20210719T203000
DTSTAMP:20260422T032140
CREATED:20210614T000733Z
LAST-MODIFIED:20210614T000733Z
UID:27828-1626721200-1626726600@penwag.org
SUMMARY:July Monday Muse
DESCRIPTION:Thought and speech bubbles \nOur monthly just-for-fun Zoom schmoozefest! \nLog-in details are sent via email to all Active PenWAG Members
URL:https://penwag.org/event/july-monday-muse/
LOCATION:PenWAG Online Clubhouse
CATEGORIES:Meetings and Lectures,Online Event,PenWAG Monday Muse
ATTACH;FMTTYPE=image/jpeg:https://penwag.org/wp-content/uploads/2021/01/1304741.jpg
END:VEVENT
BEGIN:VEVENT
DTSTART;TZID=America/Los_Angeles:20210621T190000
DTEND;TZID=America/Los_Angeles:20210621T203000
DTSTAMP:20260422T032140
CREATED:20210614T000555Z
LAST-MODIFIED:20210614T000622Z
UID:27825-1624302000-1624307400@penwag.org
SUMMARY:June Monday Muse
DESCRIPTION:Thought and speech bubbles \nOur monthly just-for-fun Zoom schmoozefest! \nLog-in details are sent via email to all Active PenWAG Members
URL:https://penwag.org/event/june-monday-muse/
LOCATION:PenWAG Online Clubhouse
CATEGORIES:Meetings and Lectures,Online Event,PenWAG Monday Muse
ATTACH;FMTTYPE=image/jpeg:https://penwag.org/wp-content/uploads/2021/01/1304741.jpg
END:VEVENT
BEGIN:VEVENT
DTSTART;TZID=America/Los_Angeles:20210517T193000
DTEND;TZID=America/Los_Angeles:20210517T203000
DTSTAMP:20260422T032140
CREATED:20210218T030008Z
LAST-MODIFIED:20210222T214735Z
UID:26562-1621279800-1621283400@penwag.org
SUMMARY:May Monday Muse
DESCRIPTION:Thought and speech bubbles \nOur monthly just-for-fun Zoom schmoozefest! \nLog-in details are sent via email to all Active PenWAG Members
URL:https://penwag.org/event/may-monday-muse/
LOCATION:PenWAG Online Clubhouse
CATEGORIES:Meetings and Lectures,Online Event,PenWAG Monday Muse
ATTACH;FMTTYPE=image/jpeg:https://penwag.org/wp-content/uploads/2021/01/1304741.jpg
END:VEVENT
BEGIN:VEVENT
DTSTART;TZID=America/Los_Angeles:20210419T193000
DTEND;TZID=America/Los_Angeles:20210419T203000
DTSTAMP:20260422T032140
CREATED:20210119T000150Z
LAST-MODIFIED:20210119T003123Z
UID:26201-1618860600-1618864200@penwag.org
SUMMARY:April Monday Muse
DESCRIPTION:Thought and speech bubbles \nOur monthly just-for-fun Zoom schmoozefest! \nLog-in details are sent via email to all Active PenWAG Members
URL:https://penwag.org/event/april-monday-muse/
LOCATION:PenWAG Online Clubhouse
CATEGORIES:Meetings and Lectures,Online Event,PenWAG Monday Muse
ATTACH;FMTTYPE=image/jpeg:https://penwag.org/wp-content/uploads/2021/01/1304741.jpg
END:VEVENT
BEGIN:VEVENT
DTSTART;TZID=America/Los_Angeles:20210315T193000
DTEND;TZID=America/Los_Angeles:20210315T203000
DTSTAMP:20260422T032140
CREATED:20210119T000238Z
LAST-MODIFIED:20210119T003139Z
UID:26200-1615836600-1615840200@penwag.org
SUMMARY:March Monday Muse
DESCRIPTION:Thought and speech bubbles \nOur monthly just-for-fun Zoom schmoozefest! \nLog-in details are sent via email to all Active PenWAG Members
URL:https://penwag.org/event/march-monday-muse/
LOCATION:PenWAG Online Clubhouse
CATEGORIES:Meetings and Lectures,Online Event,PenWAG Monday Muse
ATTACH;FMTTYPE=image/jpeg:https://penwag.org/wp-content/uploads/2021/01/1304741.jpg
END:VEVENT
BEGIN:VEVENT
DTSTART;TZID=America/Los_Angeles:20210215T193000
DTEND;TZID=America/Los_Angeles:20210215T203000
DTSTAMP:20260422T032140
CREATED:20210119T000007Z
LAST-MODIFIED:20210119T003202Z
UID:26196-1613417400-1613421000@penwag.org
SUMMARY:February Monday Muse
DESCRIPTION:Thought and speech bubbles \nOur monthly just-for-fun Zoom schmoozefest! \nLog-in details are sent via email to all Active PenWAG Members
URL:https://penwag.org/event/february-monday-muse/
LOCATION:PenWAG Online Clubhouse
CATEGORIES:Meetings and Lectures,Online Event,PenWAG Monday Muse
ATTACH;FMTTYPE=image/jpeg:https://penwag.org/wp-content/uploads/2021/01/1304741.jpg
END:VEVENT
BEGIN:VEVENT
DTSTART;TZID=America/Los_Angeles:20210118T193000
DTEND;TZID=America/Los_Angeles:20210118T203000
DTSTAMP:20260422T032140
CREATED:20210118T235511Z
LAST-MODIFIED:20210119T003049Z
UID:26194-1610998200-1611001800@penwag.org
SUMMARY:January Monday Muse
DESCRIPTION:Our monthly just-for-fun Zoom schmoozefest! \nLog-in details are sent via email to all Active PenWAG Members.
URL:https://penwag.org/event/january-monday-muse/
LOCATION:PenWAG Online Clubhouse
CATEGORIES:Meetings and Lectures,Online Event,PenWAG Monday Muse
ATTACH;FMTTYPE=image/jpeg:https://penwag.org/wp-content/uploads/2021/01/1304741.jpg
END:VEVENT
END:VCALENDAR