BEGIN:VCALENDAR
VERSION:2.0
PRODID:-//PenWAG - ECPv6.15.20//NONSGML v1.0//EN
CALSCALE:GREGORIAN
METHOD:PUBLISH
X-WR-CALNAME:PenWAG
X-ORIGINAL-URL:https://penwag.org
X-WR-CALDESC:Events for PenWAG
REFRESH-INTERVAL;VALUE=DURATION:PT1H
X-Robots-Tag:noindex
X-PUBLISHED-TTL:PT1H
BEGIN:VTIMEZONE
TZID:America/Los_Angeles
BEGIN:DAYLIGHT
TZOFFSETFROM:-0800
TZOFFSETTO:-0700
TZNAME:PDT
DTSTART:20190310T100000
END:DAYLIGHT
BEGIN:STANDARD
TZOFFSETFROM:-0700
TZOFFSETTO:-0800
TZNAME:PST
DTSTART:20191103T090000
END:STANDARD
BEGIN:DAYLIGHT
TZOFFSETFROM:-0800
TZOFFSETTO:-0700
TZNAME:PDT
DTSTART:20200308T100000
END:DAYLIGHT
BEGIN:STANDARD
TZOFFSETFROM:-0700
TZOFFSETTO:-0800
TZNAME:PST
DTSTART:20201101T090000
END:STANDARD
BEGIN:DAYLIGHT
TZOFFSETFROM:-0800
TZOFFSETTO:-0700
TZNAME:PDT
DTSTART:20210314T100000
END:DAYLIGHT
BEGIN:STANDARD
TZOFFSETFROM:-0700
TZOFFSETTO:-0800
TZNAME:PST
DTSTART:20211107T090000
END:STANDARD
BEGIN:DAYLIGHT
TZOFFSETFROM:-0800
TZOFFSETTO:-0700
TZNAME:PDT
DTSTART:20220313T100000
END:DAYLIGHT
BEGIN:STANDARD
TZOFFSETFROM:-0700
TZOFFSETTO:-0800
TZNAME:PST
DTSTART:20221106T090000
END:STANDARD
END:VTIMEZONE
BEGIN:VEVENT
DTSTART;TZID=America/Los_Angeles:20210508T110000
DTEND;TZID=America/Los_Angeles:20210508T123000
DTSTAMP:20260422T042407
CREATED:20210222T213655Z
LAST-MODIFIED:20210222T214257Z
UID:26555-1620471600-1620477000@penwag.org
SUMMARY:May 8\, 2021 Online Meeting and Program - Diane Ericson
DESCRIPTION:May 8\, 2021 — Diane Ericson \nOnline Program: Making a Life by Hand \nMAKING a Meaningful Life- Aging with a creative taproot and harvesting the gifts that continue unfolding in front of us\, IS life offering itself to us. How to be ready? Re-tooling our creativity can open the way: Join me to share ideas\, strategies and inspiration for the the journey.  \n  \n\nMaking a Life by Hand     \nDescription: Living my life rooted in creativity has never been more tested than in my recent past. Making meaning has always been what I require no matter what is in my hands. Making to understand the world. Making to grow my experience and skills and find balance is what my  life is always about. The deeper I reach\, the richer my life is. Having a diverse toolbox of making skills allows me to create choices that speak to what I need and want to share in the moment: Sometimes a more structured material like wood…sometimes textile…each calling me home in a unique voice. The gift of creativity is a bridge I am passionate to make in teaching and sharing with others. I look forward to sharing my process and work with you.  Everything coming and going…life is always in motion…feeling change in me now reminds me there is always magic unfolding in what is next. I am awake\, happy ….and always grateful. Diane \n\nThis will be an online (Zoom) presentation.  \nThis program is free to all 2021 Active PenWAG members; registration and login information will be sent via electronic communications.\nNon-members may register to attend for a $5 contribution\, which may be paid via our online enrollment store. Registration and login information will be sent after payment is processed. \n\n\n \n\nWant to make a non-member registration for this event?  Click on the Add to Cart button to add Guest Registration to your cart: $5.00Read more
URL:https://penwag.org/event/may-8-meeting-and-program-diane-ericson/
LOCATION:PenWAG Online Clubhouse
CATEGORIES:Meetings and Lectures,Online Event
ATTACH;FMTTYPE=image/png:https://penwag.org/wp-content/uploads/2021/02/Diane-Ericson-Headshot.png
ORGANIZER;CN="PenWAG (Peninsula Wearable Arts Guild)":MAILTO:info@penwag.org
END:VEVENT
BEGIN:VEVENT
DTSTART;TZID=America/Los_Angeles:20210419T193000
DTEND;TZID=America/Los_Angeles:20210419T203000
DTSTAMP:20260422T042407
CREATED:20210119T000150Z
LAST-MODIFIED:20210119T003123Z
UID:26201-1618860600-1618864200@penwag.org
SUMMARY:April Monday Muse
DESCRIPTION:Thought and speech bubbles  \nOur monthly just-for-fun Zoom schmoozefest! \nLog-in details are sent via email to all Active PenWAG Members
URL:https://penwag.org/event/april-monday-muse/
LOCATION:PenWAG Online Clubhouse
CATEGORIES:Meetings and Lectures,Online Event,PenWAG Monday Muse
ATTACH;FMTTYPE=image/jpeg:https://penwag.org/wp-content/uploads/2021/01/1304741.jpg
END:VEVENT
BEGIN:VEVENT
DTSTART;TZID=America/Los_Angeles:20210410T110000
DTEND;TZID=America/Los_Angeles:20210410T123000
DTSTAMP:20260422T042407
CREATED:20210119T203814Z
LAST-MODIFIED:20210218T004258Z
UID:26232-1618052400-1618057800@penwag.org
SUMMARY:April 10\, 2021 Online Meeting and Program - April Sproule
DESCRIPTION:April 10\, 2021 — April Sproule \nOnline Program: Make Your Mark With Textiles \nApril Sproule from Sproule Studios will share her lifelong love of textiles and design in this presentation. April’s wearable art\, upcycling projects\, and accessories will be featured in a slide show and a trunk show. You will be  able to get a closer look at the details and design sensibilities of her hand dyed\, painted\, printed\, and stitched work. April’s work is all about color\, texture\, and the practice of enhancing textiles in any way possible. \nThis will be an online (Zoom) presentation.  \nThis program is free to all 2021 Active PenWAG members; registration and login information will be sent via electronic communications.\nNon-members may register to attend for a $5 contribution\, which may be paid via our online enrollment store. Registration and login information will be sent after payment is processed.\n\n\n \n  \nDon’t miss her afternoon workshop: Block Printing on Fabric Possibilities \n\nWant to buy a non-member registration for this event?  Click on the Add to Cart button to add Guest Registration to your cart: $5.00Read more
URL:https://penwag.org/event/april-10-meeting-and-program-april-sproule/
LOCATION:PenWAG Online Clubhouse
CATEGORIES:Meetings and Lectures,Online Event
ATTACH;FMTTYPE=image/jpeg:https://penwag.org/wp-content/uploads/2021/01/sproule3.jpg
ORGANIZER;CN="PenWAG (Peninsula Wearable Arts Guild)":MAILTO:info@penwag.org
END:VEVENT
BEGIN:VEVENT
DTSTART;TZID=America/Los_Angeles:20210315T193000
DTEND;TZID=America/Los_Angeles:20210315T203000
DTSTAMP:20260422T042407
CREATED:20210119T000238Z
LAST-MODIFIED:20210119T003139Z
UID:26200-1615836600-1615840200@penwag.org
SUMMARY:March Monday Muse
DESCRIPTION:Thought and speech bubbles  \nOur monthly just-for-fun Zoom schmoozefest! \nLog-in details are sent via email to all Active PenWAG Members
URL:https://penwag.org/event/march-monday-muse/
LOCATION:PenWAG Online Clubhouse
CATEGORIES:Meetings and Lectures,Online Event,PenWAG Monday Muse
ATTACH;FMTTYPE=image/jpeg:https://penwag.org/wp-content/uploads/2021/01/1304741.jpg
END:VEVENT
BEGIN:VEVENT
DTSTART;TZID=America/Los_Angeles:20210215T193000
DTEND;TZID=America/Los_Angeles:20210215T203000
DTSTAMP:20260422T042407
CREATED:20210119T000007Z
LAST-MODIFIED:20210119T003202Z
UID:26196-1613417400-1613421000@penwag.org
SUMMARY:February Monday Muse
DESCRIPTION:Thought and speech bubbles  \nOur monthly just-for-fun Zoom schmoozefest! \nLog-in details are sent via email to all Active PenWAG Members
URL:https://penwag.org/event/february-monday-muse/
LOCATION:PenWAG Online Clubhouse
CATEGORIES:Meetings and Lectures,Online Event,PenWAG Monday Muse
ATTACH;FMTTYPE=image/jpeg:https://penwag.org/wp-content/uploads/2021/01/1304741.jpg
END:VEVENT
BEGIN:VEVENT
DTSTART;TZID=America/Los_Angeles:20210213T110000
DTEND;TZID=America/Los_Angeles:20210213T123000
DTSTAMP:20260422T042407
CREATED:20201212T190052Z
LAST-MODIFIED:20210218T004548Z
UID:24779-1613214000-1613219400@penwag.org
SUMMARY:February 13\, 2021 Online Meeting and Program - Dorothy Yuki
DESCRIPTION:February 13\, 2021  – Dorothy Yuki \nONline Program:  The Yuki  Journey \nMs Yuki’s artistic journey has drawn her in many directions; calligraphy\, botanical printing\, alphabet books\, book making and more.  She is charming and artful to the hilt. \nThis will be an online (Zoom) presentation.  \nThis program is free to all 2021 Active PenWAG members; registration and login information will be sent via electronic communications.\nNon-members may register to attend as a guest for a $5 contribution\, which may be paid via our online enrollment store. Registration and login information will be sent after payment is processed.\n\n\n \n  \nDon’t miss her afternoon workshop: Making Button Necklaces \n\nClick on the Add to Cart button to contribute and register as a guest: $5.00Read more
URL:https://penwag.org/event/feb-13-meeting-and-program-dorothy-yuki/
LOCATION:PenWAG Online Clubhouse
CATEGORIES:Meetings and Lectures,Online Event
ATTACH;FMTTYPE=image/jpeg:https://penwag.org/wp-content/uploads/2019/10/Dorothy-Yuki-headshot.jpg
ORGANIZER;CN="PenWAG (Peninsula Wearable Arts Guild)":MAILTO:info@penwag.org
END:VEVENT
BEGIN:VEVENT
DTSTART;TZID=America/Los_Angeles:20210118T193000
DTEND;TZID=America/Los_Angeles:20210118T203000
DTSTAMP:20260422T042407
CREATED:20210118T235511Z
LAST-MODIFIED:20210119T003049Z
UID:26194-1610998200-1611001800@penwag.org
SUMMARY:January Monday Muse
DESCRIPTION:Our monthly just-for-fun Zoom schmoozefest! \nLog-in details are sent via email to all Active PenWAG Members.
URL:https://penwag.org/event/january-monday-muse/
LOCATION:PenWAG Online Clubhouse
CATEGORIES:Meetings and Lectures,Online Event,PenWAG Monday Muse
ATTACH;FMTTYPE=image/jpeg:https://penwag.org/wp-content/uploads/2021/01/1304741.jpg
END:VEVENT
BEGIN:VEVENT
DTSTART;TZID=America/Los_Angeles:20201212T110000
DTEND;TZID=America/Los_Angeles:20201212T123000
DTSTAMP:20260422T042407
CREATED:20191105T081500Z
LAST-MODIFIED:20200818T050011Z
UID:24320-1607770800-1607776200@penwag.org
SUMMARY:Online Event: December 12 -- Giant Show and Tell
DESCRIPTION:Online Meeting\, Giant Show and Tell\, and Virtual Potluck\nThe Virtual version of the PenWAG year-end holiday celebration!Fix yourself your favorite Saturday brunch\, log on and share excellent company! \nWhile we cannot organize a Stash Extravaganza this year\, we can have the biggest GIANT Show and Tell session ever!It’s a chance to share how you’ve exercised your creative impulse this year\, or a treasured project none of us have seen before! \nLogon details will be sent to all members via the PenWAG electronic mailing list. \n  \n 
URL:https://penwag.org/event/2020-meeting-stash-extravaganza-and-potluck/
LOCATION:PenWAG Online Clubhouse
CATEGORIES:Meetings and Lectures,Online Event
ATTACH;FMTTYPE=image/gif:https://penwag.org/wp-content/uploads/2525/01/snowflake.gif
ORGANIZER;CN="PenWAG (Peninsula Wearable Arts Guild)":MAILTO:info@penwag.org
END:VEVENT
BEGIN:VEVENT
DTSTART;TZID=America/Los_Angeles:20201114T110000
DTEND;TZID=America/Los_Angeles:20201114T123000
DTSTAMP:20260422T042407
CREATED:20191105T081500Z
LAST-MODIFIED:20200819T190144Z
UID:24316-1605351600-1605357000@penwag.org
SUMMARY:Online Event: November 14 Program -- Laura Murray:  Creating the Wow Factor
DESCRIPTION:November 14 Online Program: Laura Murray: Creating the Wow Factor \nOur November virtual Event features Laura Murray\, a surface designer who uses one-of-kind fabrics in wearables\, ranging from over dyed kimono panels and hand batiked silks to fabrics embellished with paintstik rubbings. \nHer garments and handbags are based on the patterns of various independent pattern designers. The first hour is devoted to garments featuring special fabrics\, while Laura shares her design tips for success and problem solving strategies. The last 30 minutes is a live demonstration on how to use paintstiks to transform plain fabric into extraordinary yardage. \n  \nAccess information to this members-benefit event will be distributed via our online mailing list.
URL:https://penwag.org/event/november-14-online-meeting-and-program-laura-murray/
LOCATION:PenWAG Online Clubhouse
CATEGORIES:Meetings and Lectures,Online Event
ATTACH;FMTTYPE=image/jpeg:https://penwag.org/wp-content/uploads/2019/11/laura-72dpi-250x239-1.jpg
ORGANIZER;CN="PenWAG (Peninsula Wearable Arts Guild)":MAILTO:info@penwag.org
END:VEVENT
BEGIN:VEVENT
DTSTART;TZID=America/Los_Angeles:20201010T110000
DTEND;TZID=America/Los_Angeles:20201010T123000
DTSTAMP:20260422T042407
CREATED:20191105T081500Z
LAST-MODIFIED:20200818T050637Z
UID:22724-1602327600-1602333000@penwag.org
SUMMARY:Online Event: October 10 - Meeting and Program: Michelle Paganini
DESCRIPTION:October 10 – Michelle Paganini \nProgram:  A Tour of Upcycle Fashion Designers \nIn our second online event\, PenWAG’s own upcycling mastermind Michelle Paganini will take us on a virtual version of the lecture she’d planned for our October meeting. \n  \nRecreating ‘new’ from ‘old/scrap’ is a growing trend in fashion.  Join us for a tour of innovative designers and their approaches to upcycling.  See your closet as resources for re-invention. \n  \nAccess information will be sent to members via the PenWAG electronic mailing list \n  \n 
URL:https://penwag.org/event/october-10-meeting-and-program-michelle-paganini/
LOCATION:PenWAG Online Clubhouse
CATEGORIES:Meetings and Lectures,Online Event
ATTACH;FMTTYPE=image/jpeg:https://penwag.org/wp-content/uploads/2014/11/Michelle-Paganini-headshot-web.jpg
ORGANIZER;CN="PenWAG (Peninsula Wearable Arts Guild)":MAILTO:info@penwag.org
END:VEVENT
BEGIN:VEVENT
DTSTART;TZID=America/Los_Angeles:20200912T110000
DTEND;TZID=America/Los_Angeles:20200912T123000
DTSTAMP:20260422T042407
CREATED:20191101T071500Z
LAST-MODIFIED:20200822T005516Z
UID:24311-1599908400-1599913800@penwag.org
SUMMARY:Online Event: September 12 Meeting and Program: John Marshall
DESCRIPTION:Sept 12 – John Marshall \nProgram:  Dealing with What’s Been DealtCreative Solutions to Life’s Little Challenges \nOur first virtual workshop features PenWAG favorite John Marshall. \n  \nHe will be sharing his presentation on the creative process\, Dealing with What’s Been Dealt: Creative Solutions to Life’s Little Challenges. \nFrom John’s description of the presentation on his website at http://www.johnmarshall.to/J-dealing.htm: \nOne question John is continually asked is\, “How do you come up with ideas?” The answer is not a simple one\, but we believe the basis of a very lively presentation. \nAttention is focused on five to six projects as we follow them from inception to climax. \nSlides illustrate intimate details of the original source for an idea; with highlights of sketches and scribbles as ideas start to formulate; the pieces are shown in progress as decisions are made concerning how they should progress (or how they take off on their own)\, how to turn major (and minor) setbacks into definite pluses\, constructing the piece\, and the completed project. A large display of John’s work is sure to spark ideas of your own. \nThe emphasis os on working with the materials at hand\, with abundant samples\, illustrating how the materials and circumstances help dictate the direction the piece is to take\, and at the same time how to exercise one’s own creativity in a fulfilling manner. \nDo you have a problem “child” hiding in your work room? John will be on hand to share ideas\, so bring questions about your works in progress! \n(We’ll have a PenWAG moderator helping manage the flow of the Q&A session for John) \nDetails on accessing this members special program will be distributed via the PenWAG Members mailing list. \n  \n 
URL:https://penwag.org/event/september-12-online-program-john-marshall/
LOCATION:PenWAG Online Clubhouse
CATEGORIES:Meetings and Lectures,Online Event
ATTACH;FMTTYPE=image/jpeg:https://penwag.org/wp-content/uploads/2019/11/JMstandingMedium219.jpg
ORGANIZER;CN="PenWAG (Peninsula Wearable Arts Guild)":MAILTO:info@penwag.org
END:VEVENT
END:VCALENDAR