BEGIN:VCALENDAR
VERSION:2.0
PRODID:-//PenWAG - ECPv6.15.20//NONSGML v1.0//EN
CALSCALE:GREGORIAN
METHOD:PUBLISH
X-ORIGINAL-URL:https://penwag.org
X-WR-CALDESC:Events for PenWAG
REFRESH-INTERVAL;VALUE=DURATION:PT1H
X-Robots-Tag:noindex
X-PUBLISHED-TTL:PT1H
BEGIN:VTIMEZONE
TZID:America/Los_Angeles
BEGIN:DAYLIGHT
TZOFFSETFROM:-0800
TZOFFSETTO:-0700
TZNAME:PDT
DTSTART:20250309T100000
END:DAYLIGHT
BEGIN:STANDARD
TZOFFSETFROM:-0700
TZOFFSETTO:-0800
TZNAME:PST
DTSTART:20251102T090000
END:STANDARD
BEGIN:DAYLIGHT
TZOFFSETFROM:-0800
TZOFFSETTO:-0700
TZNAME:PDT
DTSTART:20260308T100000
END:DAYLIGHT
BEGIN:STANDARD
TZOFFSETFROM:-0700
TZOFFSETTO:-0800
TZNAME:PST
DTSTART:20261101T090000
END:STANDARD
BEGIN:DAYLIGHT
TZOFFSETFROM:-0800
TZOFFSETTO:-0700
TZNAME:PDT
DTSTART:20270314T100000
END:DAYLIGHT
BEGIN:STANDARD
TZOFFSETFROM:-0700
TZOFFSETTO:-0800
TZNAME:PST
DTSTART:20271107T090000
END:STANDARD
BEGIN:DAYLIGHT
TZOFFSETFROM:-0800
TZOFFSETTO:-0700
TZNAME:PDT
DTSTART:20280312T100000
END:DAYLIGHT
BEGIN:STANDARD
TZOFFSETFROM:-0700
TZOFFSETTO:-0800
TZNAME:PST
DTSTART:20281105T090000
END:STANDARD
BEGIN:DAYLIGHT
TZOFFSETFROM:-0800
TZOFFSETTO:-0700
TZNAME:PDT
DTSTART:20290311T100000
END:DAYLIGHT
BEGIN:STANDARD
TZOFFSETFROM:-0700
TZOFFSETTO:-0800
TZNAME:PST
DTSTART:20291104T090000
END:STANDARD
BEGIN:DAYLIGHT
TZOFFSETFROM:-0800
TZOFFSETTO:-0700
TZNAME:PDT
DTSTART:20300310T100000
END:DAYLIGHT
BEGIN:STANDARD
TZOFFSETFROM:-0700
TZOFFSETTO:-0800
TZNAME:PST
DTSTART:20301103T090000
END:STANDARD
BEGIN:DAYLIGHT
TZOFFSETFROM:-0800
TZOFFSETTO:-0700
TZNAME:PDT
DTSTART:20310309T100000
END:DAYLIGHT
BEGIN:STANDARD
TZOFFSETFROM:-0700
TZOFFSETTO:-0800
TZNAME:PST
DTSTART:20311102T090000
END:STANDARD
END:VTIMEZONE
BEGIN:VEVENT
DTSTART;TZID=America/Los_Angeles:20261010T130000
DTEND;TZID=America/Los_Angeles:20261010T160000
DTSTAMP:20260425T202457
CREATED:20251108T220027Z
LAST-MODIFIED:20260317T022920Z
UID:37580-1791637200-1791648000@penwag.org
SUMMARY:October 10\, 2026 | Margaret Peot Zoom Workshop: Bling! Embellishment With Foil
DESCRIPTION:Margaret Peot\nZoom Workshop: Bling! Embellishment With Foil\nwww.margaretpeot.com \nThe use of foil is unique and fascinating! Participants will use glues and transfer sheets to add metallic interest to an existing garment or fabric that they provide. Margaret will guide with ideas and processes unique to using foil as well as other materials\, including methods to use foil on both woven and stretch fabrics. Included with be education of creating wash-fastness pieces. \nVirtual (Zoom only): $65.00Add to cart
URL:https://penwag.org/event/october-10-2026-margaret-peot-zoom-workshop-bling-embellishment-with-foil/
LOCATION:PenWAG Online Clubhouse
CATEGORIES:Virtual Workshop,Workshops and Classes
ATTACH;FMTTYPE=image/png:https://penwag.org/wp-content/uploads/2025/11/Asset-7@3x.png
ORGANIZER;CN="PenWAG (Peninsula Wearable Arts Guild)":MAILTO:info@penwag.org
END:VEVENT
BEGIN:VEVENT
DTSTART;TZID=America/Los_Angeles:20261019T190000
DTEND;TZID=America/Los_Angeles:20261019T203000
DTSTAMP:20260425T202457
CREATED:20251108T021746Z
LAST-MODIFIED:20251108T021746Z
UID:37619-1792436400-1792441800@penwag.org
SUMMARY:October 2026 Monday Muse
DESCRIPTION:Our monthly just-for-fun Zoom schmoozefest! \nLog-in details are sent via email to all Active PenWAG Members
URL:https://penwag.org/event/october-2026-monday-muse/
LOCATION:PenWAG Online Clubhouse
CATEGORIES:Meetings and Lectures,Online Event,PenWAG Monday Muse
ATTACH;FMTTYPE=image/jpeg:https://penwag.org/wp-content/uploads/2021/01/1304741.jpg
END:VEVENT
BEGIN:VEVENT
DTSTART;TZID=America/Los_Angeles:20261114T103000
DTEND;TZID=America/Los_Angeles:20261114T120000
DTSTAMP:20260425T202457
CREATED:20251108T220057Z
LAST-MODIFIED:20260425T235253Z
UID:37543-1794652200-1794657600@penwag.org
SUMMARY:November 14\, 2026: Linda Schmidt Simulcast Program: Flamboyancy Rising
DESCRIPTION:Linda Schmidt Simulcast Program: Flamboyancy Rising Fashion Show\nLinda will bring 20 or more complete ensembles\, which range from casual to formal\, funky to elegant\, and are truly art to wear.  My philosophy about garments is that the garment should reflect your own personality\, be comfortable\, be washable\, and truly wearable\, no matter your size or shape. In the immortal words of Rachel Kinsey Clark – If you’ve got it\, DECORATE it! \nIf you’d like to volunteer to model some of these garments\, please let Judi Seip\, PenWAG’s Program Chair\, know! (programs@penwag.org). Otherwise\, we’ll just pull them off the coat rack and show them that way. \nwww.ShortAttentionSpanQuilting.com \nBIOGRAPHY:\nLinda Schmidt started making her first quilt at the age of 8\, and has made most of her own clothes since she was 12. She comes from a long line of quilting women and still uses some elements of traditional quilting\, but most of her work involves art quilts\, wearable art\, portraits and landscapes. \nLinda has won over 300 ribbons and prizes at textile and quilt shows (including participating at a PenWAG ArtWear show); and has taught\, spoken\, judged quilts and garments and exhibited nationally and internationally since 1990. She has had many of her quilts published in magazines & books\, has taught online classes since 1993 for QuiltUniversity and The Academy of Quilting.com\, and was chosen as Quilter of the Year by the Professional Quilter Magazine in 2003. \nShe is also a 4-time Fairfield and Bernina fashion designer\, writer\, & musician\, and retired from her 26-year position at the City of Dublin in 2017. She has three children\, three guitars\, three flutes\, one piano\, 5 million beads\, one husband\, a suddenly useful BA in French\, and a 5-bedroom house she cleans herself. She gardens\, cooks\, does Zumba three times a week\, and writes good music and bad poetry in her spare time. \nShe has come here with garments to show and stories to tell\, so let’s get to it! \nGuest Registration:  
URL:https://penwag.org/event/november-14-2026-linda-schmidt-simulcast-program-flamboyancy-rising-2/
LOCATION:Saratoga Senior Center with Simulcast\, 19655 Allendale Ave\, Saratoga\, CA\, 95070\, United States
CATEGORIES:In-Person Event,Meetings and Lectures,Online Event
ATTACH;FMTTYPE=image/jpeg:https://penwag.org/wp-content/uploads/2026/02/Garments-3.jpg
ORGANIZER;CN="PenWAG (Peninsula Wearable Arts Guild)":MAILTO:info@penwag.org
END:VEVENT
BEGIN:VEVENT
DTSTART;TZID=America/Los_Angeles:20261114T130000
DTEND;TZID=America/Los_Angeles:20291231T160000
DTSTAMP:20260425T202457
CREATED:20251108T220044Z
LAST-MODIFIED:20260425T235843Z
UID:37585-1794661200-1893427200@penwag.org
SUMMARY:November 14\, 2026 | Linda Schmidt In-Person Workshop:  Fire! - Creating Mystical Fabric
DESCRIPTION:Linda Schmidt In-Person Workshop: Fire! Bag\nIn-person only; Supply fee of $20 payable to artist \nUp to 20 participants. \nUsing a wide variety of fabrics\, fibers\, and various non-fabric materials\, make a beautiful bag that is an artistic treasure.  Linda Schmidt will guide us through not only making the bag\, but also using a variety of decorative and functional products\, some of which would be new to each of us.  She is extremely knowledgeable about products that many of us may be unaware of\, and will have various materials available. The Supply list has a variety of things you will want to gather before the class. The kit will contain many additional things to help create. \nSee Supply list for details.  Plus Supply fee in class $20 \nSupply list\nIn Person Only:  \n 
URL:https://penwag.org/event/november-14-2026-linda-schmidt-simulcast-workshop-fire-creating-mystical-fabric/
LOCATION:Saratoga Senior Center\, 19655 Allendale Ave\, Saratoga\, CA\, 95070\, United States
CATEGORIES:In-Person Workshop,Workshops and Classes
ATTACH;FMTTYPE=image/png:https://penwag.org/wp-content/uploads/2025/11/Asset-4@3x.png
ORGANIZER;CN="PenWAG (Peninsula Wearable Arts Guild)":MAILTO:info@penwag.org
END:VEVENT
BEGIN:VEVENT
DTSTART;TZID=America/Los_Angeles:20261212T103000
DTEND;TZID=America/Los_Angeles:20261212T120000
DTSTAMP:20260425T202457
CREATED:20251108T220011Z
LAST-MODIFIED:20260422T050123Z
UID:37596-1797071400-1797076800@penwag.org
SUMMARY:December 12\, 2026 | Carol Ziogas Simulcast Program: The Layering & Meaning of Japanese Kimonos
DESCRIPTION:Carol Ziogas\, Kimonomomo\nSubtle Arts: The Layering & Meaning of Japanese Kimonos\nWhat makes a kimono formal? What can sleeves tell us about the wearer? How many layers are there?! Explore the significance of details in kimono design and how they influence modern styles in both Eastern and Western clothing today through Carol’s collection of 19th and 20th century kimono and related garments. \n \nKimono generally means “something worn”\, but within that meaning there are many variations. Such a garment can tell you from a glance the gender\, marital status\, social standing\, interests\, and wealth of the wearer\, as well as the season\, location\, and event for which they might be wearing that particular kimono. From a tattered Buddhist pilgrim’s coat to the formal dress of a young city socialite\, kimono speak a language that has stood for centuries in Japan\, and continues to evolve today. Each layer within a kimono ensemble serves a purpose\, and nothing goes to waste. Explore a selection of these pieces including fine silks\, cotton\, and bast fibers native to Japan\, and broaden your understanding of how this classic garment can teach us more about Japanese art\, history\, and culture from a very human perspective. \nwww.kimonomomo-shop.com \nGuest Registration:  
URL:https://penwag.org/event/december-12-2026-carol-ziogas-simulcast-program-the-layering-meaning-of-japanese-kimonos/
LOCATION:Saratoga Senior Center with Simulcast\, 19655 Allendale Ave\, Saratoga\, CA\, 95070\, United States
CATEGORIES:In-Person Event,Meetings and Lectures,Online Event
ATTACH;FMTTYPE=image/jpeg:https://penwag.org/wp-content/uploads/2026/04/two-women.jpg
ORGANIZER;CN="PenWAG (Peninsula Wearable Arts Guild)":MAILTO:info@penwag.org
END:VEVENT
BEGIN:VEVENT
DTSTART;TZID=America/Los_Angeles:20300121T190000
DTEND;TZID=America/Los_Angeles:20300121T203000
DTSTAMP:20260425T202457
CREATED:20211106T163244Z
LAST-MODIFIED:20250205T034539Z
UID:29450-1895252400-1895257800@penwag.org
SUMMARY:Monday Muse (template)
DESCRIPTION:Our monthly just-for-fun Zoom schmoozefest! \nLog-in details are sent via email to all Active PenWAG Members
URL:https://penwag.org/event/monday-muse-template/
LOCATION:PenWAG Online Clubhouse
CATEGORIES:Meetings and Lectures,Online Event,PenWAG Monday Muse
ATTACH;FMTTYPE=image/jpeg:https://penwag.org/wp-content/uploads/2021/01/1304741.jpg
END:VEVENT
END:VCALENDAR