BEGIN:VCALENDAR
VERSION:2.0
PRODID:-//PenWAG - ECPv6.15.20//NONSGML v1.0//EN
CALSCALE:GREGORIAN
METHOD:PUBLISH
X-ORIGINAL-URL:https://penwag.org
X-WR-CALDESC:Events for PenWAG
REFRESH-INTERVAL;VALUE=DURATION:PT1H
X-Robots-Tag:noindex
X-PUBLISHED-TTL:PT1H
BEGIN:VTIMEZONE
TZID:America/Los_Angeles
BEGIN:DAYLIGHT
TZOFFSETFROM:-0800
TZOFFSETTO:-0700
TZNAME:PDT
DTSTART:20230312T100000
END:DAYLIGHT
BEGIN:STANDARD
TZOFFSETFROM:-0700
TZOFFSETTO:-0800
TZNAME:PST
DTSTART:20231105T090000
END:STANDARD
BEGIN:DAYLIGHT
TZOFFSETFROM:-0800
TZOFFSETTO:-0700
TZNAME:PDT
DTSTART:20240310T100000
END:DAYLIGHT
BEGIN:STANDARD
TZOFFSETFROM:-0700
TZOFFSETTO:-0800
TZNAME:PST
DTSTART:20241103T090000
END:STANDARD
BEGIN:DAYLIGHT
TZOFFSETFROM:-0800
TZOFFSETTO:-0700
TZNAME:PDT
DTSTART:20250309T100000
END:DAYLIGHT
BEGIN:STANDARD
TZOFFSETFROM:-0700
TZOFFSETTO:-0800
TZNAME:PST
DTSTART:20251102T090000
END:STANDARD
END:VTIMEZONE
BEGIN:VEVENT
DTSTART;TZID=America/Los_Angeles:20240713T103000
DTEND;TZID=America/Los_Angeles:20240713T120000
DTSTAMP:20260420T033600
CREATED:20231221T200552Z
LAST-MODIFIED:20240508T020915Z
UID:35316-1720866600-1720872000@penwag.org
SUMMARY:July 2024 Simulcast | Member Show and Tell
DESCRIPTION:July Simulcast: Member Show and Tell \nJuly 13\, 2024: 10:30-noon PST\nMultipurpose Room M50\nCampbell Community Center \nThis is an hybrid seminar and Zoom simulcast\, free to all active PenWAG members. \nGuests may join; a $10 contribution is requested to help defray our costs \n$10.00Read more	\n			\n \n  \n  \n  \n  \n  \n 
URL:https://penwag.org/event/july-2024-simulcast-member-show-and-tell/
LOCATION:Campbell Community Center Multipurpose Room M50 (with Simulcast)\, 1 W Campbell Avenue\, Campbell\, 95008\, United States
CATEGORIES:In-Person Event,Meetings and Lectures,Online Event
ATTACH;FMTTYPE=image/jpeg:https://penwag.org/wp-content/uploads/2022/12/Slide9-e1703189075799.jpeg
ORGANIZER;CN="PenWAG (Peninsula Wearable Arts Guild)":MAILTO:info@penwag.org
END:VEVENT
BEGIN:VEVENT
DTSTART;TZID=America/Los_Angeles:20240713T130000
DTEND;TZID=America/Los_Angeles:20240713T160000
DTSTAMP:20260420T033600
CREATED:20240416T022407Z
LAST-MODIFIED:20240416T023325Z
UID:35827-1720875600-1720886400@penwag.org
SUMMARY:July 13 Members Afternoon Play Date -- Make Friends with Your Serger
DESCRIPTION:Are you still staring at that amazing serger sitting in its box? Does the propsect of rethreading it give you the heebie-jeebies? Do you wonder what sort of nifty tricks you might be able to do with it? \nPenWAG Members Kevin Roche and Andy Trembley will take you on a guided tour of your sergers\, with lots of personal attention to help you unlock its potential. \nYou *will* need to bring your serger with you to room E42 at the Campbell Community Center; we’ll supply some material for a simple group project you should be able to finish during the session! \n$35.00Read more	\n			\n \n  \n(image credit: Photo 149256817 | Serger © Poznyakov | Dreamstime.com)
URL:https://penwag.org/event/july-13-members-afternoon-play-date-make-friends-with-your-serger/
LOCATION:Campbell Community Center (E-42 Board Room)\, 1 W Campbell Ave\, Campbell\, CA\, 95008\, United States
CATEGORIES:In-Person Workshop,Workshops and Classes
ATTACH;FMTTYPE=image/jpeg:https://penwag.org/wp-content/uploads/2024/04/dreamstime_s_149256817.jpg
ORGANIZER;CN="PenWAG (Peninsula Wearable Arts Guild)":MAILTO:info@penwag.org
END:VEVENT
BEGIN:VEVENT
DTSTART;TZID=America/Los_Angeles:20240715T190000
DTEND;TZID=America/Los_Angeles:20240715T203000
DTSTAMP:20260420T033600
CREATED:20231204T191648Z
LAST-MODIFIED:20231204T191648Z
UID:35235-1721070000-1721075400@penwag.org
SUMMARY:July  2024 Monday Muse
DESCRIPTION:Thought and speech bubbles \nOur monthly just-for-fun Zoom schmoozefest! \nLog-in details are sent via email to all Active PenWAG Members
URL:https://penwag.org/event/july-2024-monday-muse/
LOCATION:PenWAG Online Clubhouse
CATEGORIES:Meetings and Lectures,Online Event,PenWAG Monday Muse
ATTACH;FMTTYPE=image/jpeg:https://penwag.org/wp-content/uploads/2021/01/1304741.jpg
ORGANIZER;CN="PenWAG (Peninsula Wearable Arts Guild)":MAILTO:info@penwag.org
END:VEVENT
END:VCALENDAR